BEGIN:VCALENDAR
VERSION:2.0
PRODID:-//Firehouse Arts Center - ECPv6.15.18//NONSGML v1.0//EN
CALSCALE:GREGORIAN
METHOD:PUBLISH
X-WR-CALNAME:Firehouse Arts Center
X-ORIGINAL-URL:https://www.firehousearts.org
X-WR-CALDESC:Events for Firehouse Arts Center
REFRESH-INTERVAL;VALUE=DURATION:PT1H
X-Robots-Tag:noindex
X-PUBLISHED-TTL:PT1H
BEGIN:VTIMEZONE
TZID:America/Los_Angeles
BEGIN:DAYLIGHT
TZOFFSETFROM:-0800
TZOFFSETTO:-0700
TZNAME:PDT
DTSTART:20240310T100000
END:DAYLIGHT
BEGIN:STANDARD
TZOFFSETFROM:-0700
TZOFFSETTO:-0800
TZNAME:PST
DTSTART:20241103T090000
END:STANDARD
BEGIN:DAYLIGHT
TZOFFSETFROM:-0800
TZOFFSETTO:-0700
TZNAME:PDT
DTSTART:20250309T100000
END:DAYLIGHT
BEGIN:STANDARD
TZOFFSETFROM:-0700
TZOFFSETTO:-0800
TZNAME:PST
DTSTART:20251102T090000
END:STANDARD
BEGIN:DAYLIGHT
TZOFFSETFROM:-0800
TZOFFSETTO:-0700
TZNAME:PDT
DTSTART:20260308T100000
END:DAYLIGHT
BEGIN:STANDARD
TZOFFSETFROM:-0700
TZOFFSETTO:-0800
TZNAME:PST
DTSTART:20261101T090000
END:STANDARD
END:VTIMEZONE
BEGIN:VEVENT
DTSTART;TZID=America/Los_Angeles:20250601T103000
DTEND;TZID=America/Los_Angeles:20250601T110000
DTSTAMP:20260420T033606
CREATED:20250530T170006Z
LAST-MODIFIED:20251119T221142Z
UID:19118-1748773800-1748775600@www.firehousearts.org
SUMMARY:SRVDA's Little Dancers Day 2025
DESCRIPTION:Little Dancer’s Day is the year-end program for the SRVDA “Little Dancers” and young elementary dance students. Our little dancers proudly share their talents with the audience\, and glow in the praise and recognition they so deserve! \nShows at 10:30 a.m.\, 12 p.m.\, 1:30 p.m.\, 3:30 p.m.\, and 5 p.m.  Click on TICKETS to buy tickets for each show.\n  \n*Please note\, this event is independently organized and not sponsored by the City of Pleasanton.\n 
URL:https://www.firehousearts.org/calendar-event/srvdas-little-dancers-day-2025/
LOCATION:Firehouse Arts Center\, 4444 Railroad Ave.\, Pleasanton\, CA\, 94566\, United States
CATEGORIES:Presenting Series,Rental
ATTACH;FMTTYPE=image/png:https://www.firehousearts.org/wp-content/uploads/2025/05/SRVDA-LDD-2025-Website-image-scaled.png
END:VEVENT
END:VCALENDAR