BEGIN:VCALENDAR
VERSION:2.0
PRODID:-//Firehouse Arts Center - ECPv6.15.18//NONSGML v1.0//EN
CALSCALE:GREGORIAN
METHOD:PUBLISH
X-WR-CALNAME:Firehouse Arts Center
X-ORIGINAL-URL:https://www.firehousearts.org
X-WR-CALDESC:Events for Firehouse Arts Center
REFRESH-INTERVAL;VALUE=DURATION:PT1H
X-Robots-Tag:noindex
X-PUBLISHED-TTL:PT1H
BEGIN:VTIMEZONE
TZID:America/Los_Angeles
BEGIN:DAYLIGHT
TZOFFSETFROM:-0800
TZOFFSETTO:-0700
TZNAME:PDT
DTSTART:20230312T100000
END:DAYLIGHT
BEGIN:STANDARD
TZOFFSETFROM:-0700
TZOFFSETTO:-0800
TZNAME:PST
DTSTART:20231105T090000
END:STANDARD
BEGIN:DAYLIGHT
TZOFFSETFROM:-0800
TZOFFSETTO:-0700
TZNAME:PDT
DTSTART:20240310T100000
END:DAYLIGHT
BEGIN:STANDARD
TZOFFSETFROM:-0700
TZOFFSETTO:-0800
TZNAME:PST
DTSTART:20241103T090000
END:STANDARD
BEGIN:DAYLIGHT
TZOFFSETFROM:-0800
TZOFFSETTO:-0700
TZNAME:PDT
DTSTART:20250309T100000
END:DAYLIGHT
BEGIN:STANDARD
TZOFFSETFROM:-0700
TZOFFSETTO:-0800
TZNAME:PST
DTSTART:20251102T090000
END:STANDARD
END:VTIMEZONE
BEGIN:VEVENT
DTSTART;TZID=America/Los_Angeles:20241221T200000
DTEND;TZID=America/Los_Angeles:20241221T220000
DTSTAMP:20260422T015157
CREATED:20241015T211803Z
LAST-MODIFIED:20241120T191545Z
UID:15382-1734811200-1734818400@www.firehousearts.org
SUMMARY:Jeff Bordes & Friends: A New Orleans Christmas 2024
DESCRIPTION:Get ready to celebrate the holidays in style with “Jeff Bordes & Friends: A New Orleans Christmas” at the Firehouse Arts Center in Pleasanton\, CA. This annual holiday extravaganza brings a unique and festive twist to your favorite Christmas classics\, infused with the vibrant sounds of New Orleans jazz\, funk\, and blues. \nJoining trumpeter Jeff Bordes will be the soulful Meredith McHenry on vocals and the always dynamic Danny Sandoval on Tenor Sax; also featuring Ken Cefalo on guitar\, Wally Schnalle on drums\, and Andrew Endika Currier on bass. With special guests to be announced\, this stellar lineup promises an unforgettable night of music and holiday cheer. \nA beloved tradition and a crowd favorite\, this show sells out every year. Don’t miss your chance to be part of this joyous celebration—it’s an event not to be missed! \nSecure your seats early and get ready for a night of musical magic and holiday spirit! \n 
URL:https://www.firehousearts.org/calendar-event/jeff-bordes-friends-a-new-orleans-christmas-2024-2/
LOCATION:Firehouse Arts Center\, 4444 Railroad Ave.\, Pleasanton\, CA\, 94566\, United States
CATEGORIES:Presenting Series
ATTACH;FMTTYPE=image/jpeg:https://www.firehousearts.org/wp-content/uploads/2024/10/Jeff-Bordes-Web.jpg
END:VEVENT
END:VCALENDAR