BEGIN:VCALENDAR
VERSION:2.0
PRODID:-//Firehouse Arts Center - ECPv6.15.18//NONSGML v1.0//EN
CALSCALE:GREGORIAN
METHOD:PUBLISH
X-WR-CALNAME:Firehouse Arts Center
X-ORIGINAL-URL:https://www.firehousearts.org
X-WR-CALDESC:Events for Firehouse Arts Center
REFRESH-INTERVAL;VALUE=DURATION:PT1H
X-Robots-Tag:noindex
X-PUBLISHED-TTL:PT1H
BEGIN:VTIMEZONE
TZID:America/Los_Angeles
BEGIN:DAYLIGHT
TZOFFSETFROM:-0800
TZOFFSETTO:-0700
TZNAME:PDT
DTSTART:20230312T100000
END:DAYLIGHT
BEGIN:STANDARD
TZOFFSETFROM:-0700
TZOFFSETTO:-0800
TZNAME:PST
DTSTART:20231105T090000
END:STANDARD
BEGIN:DAYLIGHT
TZOFFSETFROM:-0800
TZOFFSETTO:-0700
TZNAME:PDT
DTSTART:20240310T100000
END:DAYLIGHT
BEGIN:STANDARD
TZOFFSETFROM:-0700
TZOFFSETTO:-0800
TZNAME:PST
DTSTART:20241103T090000
END:STANDARD
BEGIN:DAYLIGHT
TZOFFSETFROM:-0800
TZOFFSETTO:-0700
TZNAME:PDT
DTSTART:20250309T100000
END:DAYLIGHT
BEGIN:STANDARD
TZOFFSETFROM:-0700
TZOFFSETTO:-0800
TZNAME:PST
DTSTART:20251102T090000
END:STANDARD
END:VTIMEZONE
BEGIN:VEVENT
DTSTART;TZID=America/Los_Angeles:20241222T140000
DTEND;TZID=America/Los_Angeles:20241222T150000
DTSTAMP:20260419T050019
CREATED:20241204T234918Z
LAST-MODIFIED:20241207T231301Z
UID:17840-1734876000-1734879600@www.firehousearts.org
SUMMARY:East Bay Children’s Theatre presents Once Upon A Time Step
DESCRIPTION:Twas the Sunday before Christmas\, and all through the Firehouse… \n\n\nFamilies are in for a holiday treat when East Bay Children’s Theatre presents a rare big screen presentation of the Magical Musical Movie ONCE UPON A TIME STEP at the Firehouse!  This dynamic and colorful musical revue features show-stopping song and dance numbers from Cinderella\, Aladdin and the Lamp\, Snow White\, Jack and the Beanstalk\, and more. \n\n\nAccompanying the film will be a LIVE stage show featuring Santa Claus and the Elves performing holiday favorites.  After the the show\, the young (at young-at-heart!) will have an opportunity to mingle and take photos with the characters.  Costumes\, over-the-top holiday attire\, and favorite ugly sweaters are all heartily encouraged.  You may even win a prize for ugliest sweater! \nThe film features a stellar lineup of the Bay Area’s most talented singing actors. Performing star turns: Jordyn Foley\, Tania Johnson\, Juanita Harris\, Alonso Melgoza\, Marah Sotelo\, Oscar Tomosada and Chris Vettel. \n\n\nMusic and Lyrics are by Ron Lytle. \n\n\nApproximately 1 Hour.  High Demand expected:  Reserve early! \nPlease note\, this event is independently organized and not sponsored by the City of Pleasanton.
URL:https://www.firehousearts.org/calendar-event/east-bay-childrens-theatre-presents-once-upon-a-time-step/
LOCATION:Firehouse Arts Center\, 4444 Railroad Ave.\, Pleasanton\, CA\, 94566\, United States
CATEGORIES:Presenting Series,Rental
ATTACH;FMTTYPE=image/png:https://www.firehousearts.org/wp-content/uploads/2024/12/OUATS_Firehouse_Take-1_2024.png
END:VEVENT
END:VCALENDAR