BEGIN:VCALENDAR
VERSION:2.0
PRODID:-//Firehouse Arts Center - ECPv6.15.18//NONSGML v1.0//EN
CALSCALE:GREGORIAN
METHOD:PUBLISH
X-WR-CALNAME:Firehouse Arts Center
X-ORIGINAL-URL:https://www.firehousearts.org
X-WR-CALDESC:Events for Firehouse Arts Center
REFRESH-INTERVAL;VALUE=DURATION:PT1H
X-Robots-Tag:noindex
X-PUBLISHED-TTL:PT1H
BEGIN:VTIMEZONE
TZID:America/Los_Angeles
BEGIN:DAYLIGHT
TZOFFSETFROM:-0800
TZOFFSETTO:-0700
TZNAME:PDT
DTSTART:20250309T100000
END:DAYLIGHT
BEGIN:STANDARD
TZOFFSETFROM:-0700
TZOFFSETTO:-0800
TZNAME:PST
DTSTART:20251102T090000
END:STANDARD
BEGIN:DAYLIGHT
TZOFFSETFROM:-0800
TZOFFSETTO:-0700
TZNAME:PDT
DTSTART:20260308T100000
END:DAYLIGHT
BEGIN:STANDARD
TZOFFSETFROM:-0700
TZOFFSETTO:-0800
TZNAME:PST
DTSTART:20261101T090000
END:STANDARD
BEGIN:DAYLIGHT
TZOFFSETFROM:-0800
TZOFFSETTO:-0700
TZNAME:PDT
DTSTART:20270314T100000
END:DAYLIGHT
BEGIN:STANDARD
TZOFFSETFROM:-0700
TZOFFSETTO:-0800
TZNAME:PST
DTSTART:20271107T090000
END:STANDARD
END:VTIMEZONE
BEGIN:VEVENT
DTSTART;TZID=America/Los_Angeles:20260606T193000
DTEND;TZID=America/Los_Angeles:20260606T193000
DTSTAMP:20260420T110954
CREATED:20260416T185033Z
LAST-MODIFIED:20260420T175245Z
UID:20747-1780774200-1780774200@www.firehousearts.org
SUMMARY:Deja Vu - A Musical Retrospective of Crosby\, Stills\, Nash & Young
DESCRIPTION:Deja Vu delivers an unforgettable tribute to the legendary sounds of Crosby\, Stills\, Nash & Young\, recreating the group’s iconic harmonies and timeless hits with remarkable authenticity. Featuring a lineup of talented musicians dedicated to capturing the spirit and musicianship of CSNY\, the band brings each song to life with rich vocals\, masterful instrumentation\, and genuine passion. From folk-rock classics to soaring anthems\, Deja Vu offers a nostalgic\, high-quality concert experience that will resonate with longtime fans and new listeners alike. For more information about Deja Vu\, visit dejavucsnytribute.com.
URL:https://www.firehousearts.org/calendar-event/deja-vu/
LOCATION:Firehouse Arts Center\, 4444 Railroad Ave.\, Pleasanton\, CA\, 94566\, United States
CATEGORIES:Presenting Series
ATTACH;FMTTYPE=image/png:https://www.firehousearts.org/wp-content/uploads/2026/04/Deja-Vu-web-1536x668-1.png
END:VEVENT
END:VCALENDAR