BEGIN:VCALENDAR
VERSION:2.0
PRODID:-//Firehouse Arts Center - ECPv6.15.18//NONSGML v1.0//EN
CALSCALE:GREGORIAN
METHOD:PUBLISH
X-WR-CALNAME:Firehouse Arts Center
X-ORIGINAL-URL:https://www.firehousearts.org
X-WR-CALDESC:Events for Firehouse Arts Center
REFRESH-INTERVAL;VALUE=DURATION:PT1H
X-Robots-Tag:noindex
X-PUBLISHED-TTL:PT1H
BEGIN:VTIMEZONE
TZID:America/Los_Angeles
BEGIN:DAYLIGHT
TZOFFSETFROM:-0800
TZOFFSETTO:-0700
TZNAME:PDT
DTSTART:20250309T100000
END:DAYLIGHT
BEGIN:STANDARD
TZOFFSETFROM:-0700
TZOFFSETTO:-0800
TZNAME:PST
DTSTART:20251102T090000
END:STANDARD
BEGIN:DAYLIGHT
TZOFFSETFROM:-0800
TZOFFSETTO:-0700
TZNAME:PDT
DTSTART:20260308T100000
END:DAYLIGHT
BEGIN:STANDARD
TZOFFSETFROM:-0700
TZOFFSETTO:-0800
TZNAME:PST
DTSTART:20261101T090000
END:STANDARD
BEGIN:DAYLIGHT
TZOFFSETFROM:-0800
TZOFFSETTO:-0700
TZNAME:PDT
DTSTART:20270314T100000
END:DAYLIGHT
BEGIN:STANDARD
TZOFFSETFROM:-0700
TZOFFSETTO:-0800
TZNAME:PST
DTSTART:20271107T090000
END:STANDARD
END:VTIMEZONE
BEGIN:VEVENT
DTSTART;TZID=America/Los_Angeles:20260314T193000
DTEND;TZID=America/Los_Angeles:20260314T193000
DTSTAMP:20260422T051936
CREATED:20251212T195052Z
LAST-MODIFIED:20251212T202846Z
UID:20566-1773516600-1773516600@www.firehousearts.org
SUMMARY:CCSegeR - A Tribute to Bob Seger and CCR
DESCRIPTION:CCSegeR performs the timeless music of Bob Seger and Creedence Clearwater Revival (CCR) in a spectacular tribute show. This high-energy tribute act\, voted Northern California’s #1 Classic Rock and Roll Band\, brings the authentic sounds of these legendary rock icons to life with a powerhouse lineup of seasoned musicians. \nFronted by dynamic vocalists Paul Holdgate\, whose vocal prowess channels the grit and soul of Bob Seger and Randy Scoles who perfectly captures CCR’s John Fogerty\, the band faithfully recreates the hits that defined a generation. Classics like “Night Moves\,” “Old Time Rock n Roll\,” “Fortunate Son\,” and “Bad Moon Rising” will transport audiences back to the golden era of rock. \nCCSegeR’s rhythm section\, featuring bassist Larry Hart and drummer Jeff Campitelli\, provides the driving beats that are crucial to capturing the original sounds of both bands. Guitarist Harvey Baser delivers electrifying solos and harmonies\, while keyboardist John Dengate adds depth with his masterful playing\, emulating the iconic organ and piano sounds of the era. \nKnown for their incredible sound and engaging stage presence\, CCSegeR has earned a reputation as a must-see act for fans of classic rock. Their performances aren’t just concerts—they’re immersive experiences that celebrate the music and spirit of Bob Seger and CCR that defined a generation of music fans. \nFor more information\, visit www.ccseger.com.
URL:https://www.firehousearts.org/calendar-event/ccseger/
LOCATION:Firehouse Arts Center\, 4444 Railroad Ave.\, Pleasanton\, CA\, 94566\, United States
CATEGORIES:Presenting Series
ATTACH;FMTTYPE=image/jpeg:https://www.firehousearts.org/wp-content/uploads/2025/12/CCSEGER-web-1536x668-1.jpg
END:VEVENT
END:VCALENDAR