BEGIN:VCALENDAR
VERSION:2.0
PRODID:-//Firehouse Arts Center - ECPv6.15.18//NONSGML v1.0//EN
CALSCALE:GREGORIAN
METHOD:PUBLISH
X-WR-CALNAME:Firehouse Arts Center
X-ORIGINAL-URL:https://www.firehousearts.org
X-WR-CALDESC:Events for Firehouse Arts Center
REFRESH-INTERVAL;VALUE=DURATION:PT1H
X-Robots-Tag:noindex
X-PUBLISHED-TTL:PT1H
BEGIN:VTIMEZONE
TZID:America/Los_Angeles
BEGIN:DAYLIGHT
TZOFFSETFROM:-0800
TZOFFSETTO:-0700
TZNAME:PDT
DTSTART:20230312T100000
END:DAYLIGHT
BEGIN:STANDARD
TZOFFSETFROM:-0700
TZOFFSETTO:-0800
TZNAME:PST
DTSTART:20231105T090000
END:STANDARD
BEGIN:DAYLIGHT
TZOFFSETFROM:-0800
TZOFFSETTO:-0700
TZNAME:PDT
DTSTART:20240310T100000
END:DAYLIGHT
BEGIN:STANDARD
TZOFFSETFROM:-0700
TZOFFSETTO:-0800
TZNAME:PST
DTSTART:20241103T090000
END:STANDARD
BEGIN:DAYLIGHT
TZOFFSETFROM:-0800
TZOFFSETTO:-0700
TZNAME:PDT
DTSTART:20250309T100000
END:DAYLIGHT
BEGIN:STANDARD
TZOFFSETFROM:-0700
TZOFFSETTO:-0800
TZNAME:PST
DTSTART:20251102T090000
END:STANDARD
END:VTIMEZONE
BEGIN:VEVENT
DTSTART;TZID=America/Los_Angeles:20241214T140000
DTEND;TZID=America/Los_Angeles:20241214T163000
DTSTAMP:20260421T172107
CREATED:20241014T213917Z
LAST-MODIFIED:20241120T192019Z
UID:14917-1734184800-1734193800@www.firehousearts.org
SUMMARY:A Very Follies Holiday 2024
DESCRIPTION:THIS SHOW IS SOLD OUT!\nRaise your holiday spirits by joining The Golden Follies  as these talented and energetic senior performers  brighten the holiday season with  A Very “Follies” Holiday !  Lively choreography\, heartwarming music\, Reindeers\, Snowflakes\, Frosty\, Christmas Trees\, Bright Colored Packages\, and more.  Come and share the joy of the season as The Golden Follies combine the best that is shiny and bright with Follies Favorites for a sparkling holiday revue. \n 
URL:https://www.firehousearts.org/calendar-event/a-very-follies-holiday-2024/
LOCATION:Firehouse Arts Center\, 4444 Railroad Ave.\, Pleasanton\, CA\, 94566\, United States
CATEGORIES:Presenting Series
ATTACH;FMTTYPE=image/jpeg:https://www.firehousearts.org/wp-content/uploads/2024/10/Copy-of-Guide-to-Villainy-1-scaled.jpg
END:VEVENT
END:VCALENDAR